BEGIN:VCALENDAR
VERSION:2.0
PRODID:-//Musikschule Lindau - ECPv6.15.20//NONSGML v1.0//EN
CALSCALE:GREGORIAN
METHOD:PUBLISH
X-WR-CALNAME:Musikschule Lindau
X-ORIGINAL-URL:https://musikschule-lindau.de
X-WR-CALDESC:Veranstaltungen für Musikschule Lindau
REFRESH-INTERVAL;VALUE=DURATION:PT1H
X-Robots-Tag:noindex
X-PUBLISHED-TTL:PT1H
BEGIN:VTIMEZONE
TZID:Europe/Berlin
BEGIN:DAYLIGHT
TZOFFSETFROM:+0100
TZOFFSETTO:+0200
TZNAME:CEST
DTSTART:20240331T010000
END:DAYLIGHT
BEGIN:STANDARD
TZOFFSETFROM:+0200
TZOFFSETTO:+0100
TZNAME:CET
DTSTART:20241027T010000
END:STANDARD
BEGIN:DAYLIGHT
TZOFFSETFROM:+0100
TZOFFSETTO:+0200
TZNAME:CEST
DTSTART:20250330T010000
END:DAYLIGHT
BEGIN:STANDARD
TZOFFSETFROM:+0200
TZOFFSETTO:+0100
TZNAME:CET
DTSTART:20251026T010000
END:STANDARD
BEGIN:DAYLIGHT
TZOFFSETFROM:+0100
TZOFFSETTO:+0200
TZNAME:CEST
DTSTART:20260329T010000
END:DAYLIGHT
BEGIN:STANDARD
TZOFFSETFROM:+0200
TZOFFSETTO:+0100
TZNAME:CET
DTSTART:20261025T010000
END:STANDARD
END:VTIMEZONE
BEGIN:VEVENT
DTSTART;TZID=Europe/Berlin:20250316T150000
DTEND;TZID=Europe/Berlin:20250316T163000
DTSTAMP:20260425T041501
CREATED:20241105T134914Z
LAST-MODIFIED:20250226T075400Z
UID:5567-1742137200-1742142600@musikschule-lindau.de
SUMMARY:Großes Musikschulkonzert
DESCRIPTION:Ein Nachmittag voller Musik! \nAm 16. März 2025 lädt die Musikschule Lindau zu ihrem großen Musikschulkonzert in die Inselhalle ein. Ab 15:00 Uhr erwartet die Besucher ein Konzerterlebnis\, das die gesamte Bandbreite der Musikschule präsentiert. Als musikalischer Höhepunkt des Schuljahres\, bietet das Konzert ein abwechslungsreiches Programm von solistischen Darbietungen bis hin zu beeindruckenden Ensembles\, Orchestern und Chören. \nDie Schülerinnen und Schüler der Musikschule entführen die Zuhörer auf eine Reise durch verschiedene Stilrichtungen und Epochen. Von klassischen Klängen bis hin zu bekannten Melodien – hier ist für jeden Musikgeschmack etwas dabei. \nKommen Sie vorbei und erleben Sie\, wie die Musikschule die Inselhalle zum Klingen bringt. \nEintritt frei – die Musikschule Lindau freut sich auf Ihren Besuch!
URL:https://musikschule-lindau.de/event/grosses-musikschulkonzert/
LOCATION:Inselhalle Lindau\, Zwanzigerstr. 10\, Lindau\, Bayern\, 88131
CATEGORIES:Solisten-/Kammermusikkonzerte,Veranstaltungen der Musikschule
END:VEVENT
END:VCALENDAR